BEGIN:VCALENDAR
VERSION:2.0
PRODID:icalendar-ruby
CALSCALE:GREGORIAN
METHOD:PUBLISH
METHOD:REQUEST
BEGIN:VTIMEZONE
TZID:America/Toronto
BEGIN:DAYLIGHT
DTSTART:20260308T030000
TZOFFSETFROM:-0500
TZOFFSETTO:-0400
RRULE:FREQ=YEARLY;BYDAY=2SU;BYMONTH=3
TZNAME:EDT
END:DAYLIGHT
BEGIN:STANDARD
DTSTART:20261101T010000
TZOFFSETFROM:-0400
TZOFFSETTO:-0500
RRULE:FREQ=YEARLY;BYDAY=1SU;BYMONTH=11
TZNAME:EST
END:STANDARD
END:VTIMEZONE
BEGIN:VEVENT
DTSTAMP:20260423T194335Z
UID:3674
DTSTART;TZID=America/Toronto:20260606T090000
DTEND;TZID=America/Toronto:20260606T140000
CLASS:PUBLIC
CREATED:20260415T113948
DESCRIPTION:The 31st Annual 'Classic' British Car Show will feature 1st pla
 ce awards for each class\, determined by popular vote. The featured marque
  this year is Spitfire / GT6. Food and drinks will be available for purcha
 se. Registration opens at 9 AM.\nEvent Sponsors: Wortley Auto Service\, Mo
 rris Insurance\, Tirecraft
LAST-MODIFIED:20260415T113948
LOCATION:Royal Canadian Legion Lambeth Branch 501\, 7097 Kilbourne Rd.\, Lo
 ndon\, ON\, N6P 1K5
SEQUENCE:1776973415
STATUS:CONFIRMED
SUMMARY:31st Annual 'Classic' British Car Show
BEGIN:VALARM
ACTION:DISPLAY
TRIGGER:-PT1H
SUMMARY:31st Annual 'Classic' British Car Show starts in 1 hour!
END:VALARM
END:VEVENT
END:VCALENDAR
