BEGIN:VCALENDAR
VERSION:2.0
PRODID:icalendar-ruby
CALSCALE:GREGORIAN
METHOD:PUBLISH
METHOD:REQUEST
METHOD:REQUEST
METHOD:REQUEST
METHOD:REQUEST
METHOD:REQUEST
BEGIN:VTIMEZONE
TZID:America/Toronto
BEGIN:DAYLIGHT
DTSTART:20260308T030000
TZOFFSETFROM:-0500
TZOFFSETTO:-0400
RRULE:FREQ=YEARLY;BYDAY=2SU;BYMONTH=3
TZNAME:EDT
END:DAYLIGHT
BEGIN:STANDARD
DTSTART:20261101T010000
TZOFFSETFROM:-0400
TZOFFSETTO:-0500
RRULE:FREQ=YEARLY;BYDAY=1SU;BYMONTH=11
TZNAME:EST
END:STANDARD
END:VTIMEZONE
BEGIN:VTIMEZONE
TZID:America/Toronto
BEGIN:DAYLIGHT
DTSTART:20260308T030000
TZOFFSETFROM:-0500
TZOFFSETTO:-0400
RRULE:FREQ=YEARLY;BYDAY=2SU;BYMONTH=3
TZNAME:EDT
END:DAYLIGHT
BEGIN:STANDARD
DTSTART:20261101T010000
TZOFFSETFROM:-0400
TZOFFSETTO:-0500
RRULE:FREQ=YEARLY;BYDAY=1SU;BYMONTH=11
TZNAME:EST
END:STANDARD
END:VTIMEZONE
BEGIN:VTIMEZONE
TZID:America/Toronto
BEGIN:DAYLIGHT
DTSTART:20260308T030000
TZOFFSETFROM:-0500
TZOFFSETTO:-0400
RRULE:FREQ=YEARLY;BYDAY=2SU;BYMONTH=3
TZNAME:EDT
END:DAYLIGHT
BEGIN:STANDARD
DTSTART:20261101T010000
TZOFFSETFROM:-0400
TZOFFSETTO:-0500
RRULE:FREQ=YEARLY;BYDAY=1SU;BYMONTH=11
TZNAME:EST
END:STANDARD
END:VTIMEZONE
BEGIN:VTIMEZONE
TZID:America/Toronto
BEGIN:DAYLIGHT
DTSTART:20260308T030000
TZOFFSETFROM:-0500
TZOFFSETTO:-0400
RRULE:FREQ=YEARLY;BYDAY=2SU;BYMONTH=3
TZNAME:EDT
END:DAYLIGHT
BEGIN:STANDARD
DTSTART:20261101T010000
TZOFFSETFROM:-0400
TZOFFSETTO:-0500
RRULE:FREQ=YEARLY;BYDAY=1SU;BYMONTH=11
TZNAME:EST
END:STANDARD
END:VTIMEZONE
BEGIN:VTIMEZONE
TZID:America/Toronto
BEGIN:DAYLIGHT
DTSTART:20260308T030000
TZOFFSETFROM:-0500
TZOFFSETTO:-0400
RRULE:FREQ=YEARLY;BYDAY=2SU;BYMONTH=3
TZNAME:EDT
END:DAYLIGHT
BEGIN:STANDARD
DTSTART:20261101T010000
TZOFFSETFROM:-0400
TZOFFSETTO:-0500
RRULE:FREQ=YEARLY;BYDAY=1SU;BYMONTH=11
TZNAME:EST
END:STANDARD
END:VTIMEZONE
BEGIN:VEVENT
DTSTAMP:20260423T194228Z
UID:3236
DTSTART;TZID=America/Toronto:20260522T180000
DTEND;TZID=America/Toronto:20260522T200000
CLASS:PUBLIC
CREATED:20260324T175105
DESCRIPTION:Join the North Perth Cruisers for their Retro Revival Fridays M
 onthly Cruise Nights\, featuring classic cars\, cool rides\, great food\, 
 and good times. The event takes place monthly from May to September. A 50/
 50 draw is sold weekly with a final draw in September. Please bring donati
 ons of non-perishable food items. \nCharities Supported are: The Salvation
  Army\, Kin Canada\, Kinette Club of Listowel.\nEvent Sponsors: VanAllen I
 nsurance Inc.\, A&W\, New Orleans Pizza Listowel\, Bigg Dogg Street Eats\,
  Cool 94.5\, Canadian Tire.
LAST-MODIFIED:20260324T175105
LOCATION:Canadian Tire Parking Lot\, 500 Mitchell Rd S\, Listowel\, ON\, N4
 W 3R3
SEQUENCE:1776973348
STATUS:CONFIRMED
SUMMARY:Retro Revival Fridays Monthly Cruise Nights
BEGIN:VALARM
ACTION:DISPLAY
TRIGGER:-PT1H
SUMMARY:Retro Revival Fridays Monthly Cruise Nights starts in 1 hour!
END:VALARM
END:VEVENT
BEGIN:VEVENT
DTSTAMP:20260423T194228Z
UID:3232
DTSTART;TZID=America/Toronto:20260619T180000
DTEND;TZID=America/Toronto:20260619T200000
CLASS:PUBLIC
CREATED:20260324T175005
DESCRIPTION:Join the North Perth Cruisers for their Retro Revival Fridays M
 onthly Cruise Nights\, featuring classic cars\, cool rides\, great food\, 
 and good times. The event takes place monthly from May to September. A 50/
 50 draw is sold weekly with a final draw in September. Please bring donati
 ons of non-perishable food items. \nCharities Supported are: The Salvation
  Army\, Kin Canada\, Kinette Club of Listowel.\nEvent Sponsors: VanAllen I
 nsurance Inc.\, A&W\, New Orleans Pizza Listowel\, Bigg Dogg Street Eats\,
  Cool 94.5\, Canadian Tire.
LAST-MODIFIED:20260324T175005
LOCATION:Canadian Tire Parking Lot\, 500 Mitchell Rd S\, Listowel\, ON\, N4
 W 3R3
SEQUENCE:1776973348
STATUS:CONFIRMED
SUMMARY:Retro Revival Fridays Monthly Cruise Nights
BEGIN:VALARM
ACTION:DISPLAY
TRIGGER:-PT1H
SUMMARY:Retro Revival Fridays Monthly Cruise Nights starts in 1 hour!
END:VALARM
END:VEVENT
BEGIN:VEVENT
DTSTAMP:20260423T194228Z
UID:3233
DTSTART;TZID=America/Toronto:20260717T180000
DTEND;TZID=America/Toronto:20260717T200000
CLASS:PUBLIC
CREATED:20260324T175005
DESCRIPTION:Join the North Perth Cruisers for their Retro Revival Fridays M
 onthly Cruise Nights\, featuring classic cars\, cool rides\, great food\, 
 and good times. The event takes place monthly from May to September. A 50/
 50 draw is sold weekly with a final draw in September. Please bring donati
 ons of non-perishable food items. \nCharities Supported are: The Salvation
  Army\, Kin Canada\, Kinette Club of Listowel.\nEvent Sponsors: VanAllen I
 nsurance Inc.\, A&W\, New Orleans Pizza Listowel\, Bigg Dogg Street Eats\,
  Cool 94.5\, Canadian Tire.
LAST-MODIFIED:20260324T175005
LOCATION:Canadian Tire Parking Lot\, 500 Mitchell Rd S\, Listowel\, ON\, N4
 W 3R3
SEQUENCE:1776973348
STATUS:CONFIRMED
SUMMARY:Retro Revival Fridays Monthly Cruise Nights
BEGIN:VALARM
ACTION:DISPLAY
TRIGGER:-PT1H
SUMMARY:Retro Revival Fridays Monthly Cruise Nights starts in 1 hour!
END:VALARM
END:VEVENT
BEGIN:VEVENT
DTSTAMP:20260423T194228Z
UID:3234
DTSTART;TZID=America/Toronto:20260821T180000
DTEND;TZID=America/Toronto:20260821T200000
CLASS:PUBLIC
CREATED:20260324T175005
DESCRIPTION:Join the North Perth Cruisers for their Retro Revival Fridays M
 onthly Cruise Nights\, featuring classic cars\, cool rides\, great food\, 
 and good times. The event takes place monthly from May to September. A 50/
 50 draw is sold weekly with a final draw in September. Please bring donati
 ons of non-perishable food items. \nCharities Supported are: The Salvation
  Army\, Kin Canada\, Kinette Club of Listowel.\nEvent Sponsors: VanAllen I
 nsurance Inc.\, A&W\, New Orleans Pizza Listowel\, Bigg Dogg Street Eats\,
  Cool 94.5\, Canadian Tire.
LAST-MODIFIED:20260324T175005
LOCATION:Canadian Tire Parking Lot\, 500 Mitchell Rd S\, Listowel\, ON\, N4
 W 3R3
SEQUENCE:1776973348
STATUS:CONFIRMED
SUMMARY:Retro Revival Fridays Monthly Cruise Nights
BEGIN:VALARM
ACTION:DISPLAY
TRIGGER:-PT1H
SUMMARY:Retro Revival Fridays Monthly Cruise Nights starts in 1 hour!
END:VALARM
END:VEVENT
BEGIN:VEVENT
DTSTAMP:20260423T194228Z
UID:3235
DTSTART;TZID=America/Toronto:20260918T180000
DTEND;TZID=America/Toronto:20260918T200000
CLASS:PUBLIC
CREATED:20260324T175005
DESCRIPTION:Join the North Perth Cruisers for their Retro Revival Fridays M
 onthly Cruise Nights\, featuring classic cars\, cool rides\, great food\, 
 and good times. The event takes place monthly from May to September. A 50/
 50 draw is sold weekly with a final draw in September. Please bring donati
 ons of non-perishable food items. \nCharities Supported are: The Salvation
  Army\, Kin Canada\, Kinette Club of Listowel.\nEvent Sponsors: VanAllen I
 nsurance Inc.\, A&W\, New Orleans Pizza Listowel\, Bigg Dogg Street Eats\,
  Cool 94.5\, Canadian Tire.
LAST-MODIFIED:20260324T175005
LOCATION:Canadian Tire Parking Lot\, 500 Mitchell Rd S\, Listowel\, ON\, N4
 W 3R3
SEQUENCE:1776973348
STATUS:CONFIRMED
SUMMARY:Retro Revival Fridays Monthly Cruise Nights
BEGIN:VALARM
ACTION:DISPLAY
TRIGGER:-PT1H
SUMMARY:Retro Revival Fridays Monthly Cruise Nights starts in 1 hour!
END:VALARM
END:VEVENT
END:VCALENDAR
